BEGIN:VCALENDAR
VERSION:2.0
PRODID:-//LymeLine.com - ECPv6.15.14//NONSGML v1.0//EN
CALSCALE:GREGORIAN
METHOD:PUBLISH
X-ORIGINAL-URL:https://lymeline.com
X-WR-CALDESC:Events for LymeLine.com
REFRESH-INTERVAL;VALUE=DURATION:PT1H
X-Robots-Tag:noindex
X-PUBLISHED-TTL:PT1H
BEGIN:VTIMEZONE
TZID:America/New_York
BEGIN:DAYLIGHT
TZOFFSETFROM:-0500
TZOFFSETTO:-0400
TZNAME:EDT
DTSTART:20250309T070000
END:DAYLIGHT
BEGIN:STANDARD
TZOFFSETFROM:-0400
TZOFFSETTO:-0500
TZNAME:EST
DTSTART:20251102T060000
END:STANDARD
BEGIN:DAYLIGHT
TZOFFSETFROM:-0500
TZOFFSETTO:-0400
TZNAME:EDT
DTSTART:20260308T070000
END:DAYLIGHT
BEGIN:STANDARD
TZOFFSETFROM:-0400
TZOFFSETTO:-0500
TZNAME:EST
DTSTART:20261101T060000
END:STANDARD
BEGIN:DAYLIGHT
TZOFFSETFROM:-0500
TZOFFSETTO:-0400
TZNAME:EDT
DTSTART:20270314T070000
END:DAYLIGHT
BEGIN:STANDARD
TZOFFSETFROM:-0400
TZOFFSETTO:-0500
TZNAME:EST
DTSTART:20271107T060000
END:STANDARD
END:VTIMEZONE
BEGIN:VEVENT
DTSTART;TZID=America/New_York:20260502T070000
DTEND;TZID=America/New_York:20260502T170000
DTSTAMP:20260420T052947
CREATED:20260407T204156Z
LAST-MODIFIED:20260407T204230Z
UID:9978-1777705200-1777741200@lymeline.com
SUMMARY:Jewett Preserve Hikes
DESCRIPTION:Join Jim Natale in a guided exploration of Jewett Preserve on Macintosh Road in Lyme. \nFor more adventurous hikers\, a 7 a.m. to 3 p.m. “rugged ramble” will traverse swamps\, wetlands and rocky terrain. Participants should bring water\, lunch and snacks. \nA moderately easy walk will follow from 3 to 5 p.m. \nJim Natale is a recognized native plant expert with more than 60\,000 observations submitted to the iNaturalist app. His mission with Wilder Gardens is to foster a regional native plant community and encourage stewardship of local natural areas for the benefit of both wildlife and people. \nRegister by emailing openspace@townlyme.org.
URL:https://lymeline.com/event/9978/
LOCATION:Jewett Preserve\, 20-10 MacIntosh Road\, Lyme\, CT\, 06371\, United States
CATEGORIES:Hike
END:VEVENT
BEGIN:VEVENT
DTSTART;TZID=America/New_York:20260506T161500
DTEND;TZID=America/New_York:20260506T161500
DTSTAMP:20260420T052947
CREATED:20260419T151829Z
LAST-MODIFIED:20260419T152033Z
UID:10252-1778084100-1778084100@lymeline.com
SUMMARY:Champlain South Hiker's Happy Hour
DESCRIPTION:A guided walk will leave at 4:15 p.m. from the Champlain South preserve\, which is accessible from the cul-de-sac at the end of Meetinghouse Lane and Library Lane. All are welcome. \nAfter the hike\, people will re-group at the Old Lyme Inn\, 85 Lyme St.\, for discounted drinks and appetizers from 5 to 7 p.m. You need not hike to enjoy the Happy Hour.
URL:https://lymeline.com/event/champlain-south-hikers-happy-hour/
LOCATION:Champlain South Open Space\, Library Lane\, Old Lyme\, CT\, 06371\, United States
CATEGORIES:Hike,Party
END:VEVENT
END:VCALENDAR